BEGIN:VCALENDAR
VERSION:2.0
PRODID:-//abcclimbingacademy.com - ECPv6.15.20//NONSGML v1.0//EN
CALSCALE:GREGORIAN
METHOD:PUBLISH
X-WR-CALNAME:abcclimbingacademy.com
X-ORIGINAL-URL:https://abcclimbingacademy.com
X-WR-CALDESC:Events for abcclimbingacademy.com
REFRESH-INTERVAL;VALUE=DURATION:PT1H
X-Robots-Tag:noindex
X-PUBLISHED-TTL:PT1H
BEGIN:VTIMEZONE
TZID:UTC
BEGIN:STANDARD
TZOFFSETFROM:+0000
TZOFFSETTO:+0000
TZNAME:UTC
DTSTART:20230101T000000
END:STANDARD
END:VTIMEZONE
BEGIN:VEVENT
DTSTART;TZID=UTC:20241209T193000
DTEND;TZID=UTC:20241218T213000
DTSTAMP:20260421T110019
CREATED:20240223T073808Z
LAST-MODIFIED:20240223T073808Z
UID:5157-1733772600-1734557400@abcclimbingacademy.com
SUMMARY:КУРС "ВЪЗЛИТЕ В КАТЕРЕНЕТО"
DESCRIPTION:С възлите шега не бива\, всеки който се катери го разбира. \nВсеки възел намалява здравината на алпийското въже. Това се дължи на усукването и преплитането на нишките във възелът\, което от своя страна води до непълноценното им и дори неучастие на някои от тях в последвалото натоварване. \nПо време на семинарите\, участниците ще научат и усъвършенстват най-често използваните възли в катеренето. Ще бъдат показани техните разновидности\, различни начини на връзване\, предимства и недостатъци\, както и специфични похвати свързани с приложението им при катерене и осигуряване. \nМоже да се запишете предварително ТУК \nДо курса се допускат само лица навършили 18 г.
URL:https://abcclimbingacademy.com/event/kurs-vzlite-v-katereneto-3/
LOCATION:Walltopia Climbing Center\, bul. Tsarigradsko shose 111V\, Sofia\, Bulgaria
CATEGORIES:Предстоящи събития
END:VEVENT
BEGIN:VEVENT
DTSTART;TZID=UTC:20241105T193000
DTEND;TZID=UTC:20241128T213000
DTSTAMP:20260421T110019
CREATED:20240220T160703Z
LAST-MODIFIED:20240403T133145Z
UID:5140-1730835000-1732829400@abcclimbingacademy.com
SUMMARY:КУРС ИНТРО - ВЪВЕЖДАНЕ В КАТЕРЕНЕТО
DESCRIPTION:Ако искате да научите основните умения\, необходими\, за да се катерите самостоятелно\, да се връзвате и да осигурявате безопасно\, ние сме тук\, за да ви покажем как с Kурс Интро – въвеждане в катеренето. \nКурса включва 8 занимания с инструктор в рамките на месец. Осигуряваме всичката необходима екипировка\, с изключение на обувки за катерене (еспадрили). В началото можете да започнете и с удобни маратонки\, а в последствие да наемете обувки от залата или да си купите собствени такива. Всеки участник в курса получава 20% еднократна отстъпка при закупуване на абонамент след края на курса. \nЗаписването става на място или със закупуването на курса онлайн. Необходимо е предварително да заплатите съответната сума\, за да запазите мястото си в курса. \nЗа повече информация\, обадете се на 088 803 8835 или ни пишете съобщение. \n  \nДо курса се допускат само лица навършили 18 г.
URL:https://abcclimbingacademy.com/event/kurs-intro-vvezhdane-v-katereneto-7/
LOCATION:Walltopia Climbing Center\, bul. Tsarigradsko shose 111V\, Sofia\, Bulgaria
CATEGORIES:Предстоящи събития
END:VEVENT
BEGIN:VEVENT
DTSTART;TZID=UTC:20241105T173000
DTEND;TZID=UTC:20241128T193000
DTSTAMP:20260421T110019
CREATED:20240220T163154Z
LAST-MODIFIED:20240220T163154Z
UID:5150-1730827800-1732822200@abcclimbingacademy.com
SUMMARY:КУРС БОУЛДЪР КАТЕРЕНЕ
DESCRIPTION:Чудите ли се как изкатерването на някой боулдър изглежда като детска игра и изисква минимално усилие за някои (онази слабичка мацка\, която няма големи мускули?!)\, а на вас ви коства много сила и все нещо не се получава? Може би имате нужда да поработите над техниката\, да овладеете специфични движения\, да се научите да боравите правилно с центъра на тежестта на своето тяло. Баланса\, координацията и правилното позициониране на тежестта на тялото са ключови в катеренето и често – много по-важни за успешното преминаване на маршрут\, отколкото силата и здравите мускули. Накратко: в този курс ще ви помогнем да се разберете с гравитацията \nФокусът на този курс е овладяване на специфични катерачни техники и движения\, характерни за боулдър катеренето. Ще работим над разчитането на боулдърите и тактиката за преминаването и над подобряване техниката: баланс\, координация\, гъвкавост\, специфична сила\, динамика. \nАко вече имате основни умения за катерене на маршрути за начинаещи\, това е подходящият курс за вас. \nКурса включва 8 занимания с инструктор в рамките на 4 поредни седмици. \nВсеки участник в курса получава 20% еднократна отстъпка при закупуване на абонамент след края на курса. \nЗаписването става на място или със закупуването на курса онлайн. Необходимо е предварително плащане\, за да запазите мястото си в курса. \nЗа повече информация\, обадете се на 088 803 8835 или ни пишете съобщение. \nДо курса се допускат само лица навършили 18 г.
URL:https://abcclimbingacademy.com/event/kurs-bouldr-katerene-3/
LOCATION:Walltopia Climbing Center\, bul. Tsarigradsko shose 111V\, Sofia\, Bulgaria
CATEGORIES:Предстоящи събития
END:VEVENT
BEGIN:VEVENT
DTSTART;TZID=UTC:20241104T193000
DTEND;TZID=UTC:20241127T213000
DTSTAMP:20260421T110019
CREATED:20240220T161154Z
LAST-MODIFIED:20240220T161154Z
UID:5144-1730748600-1732743000@abcclimbingacademy.com
SUMMARY:КУРС ЛИЙД КАТЕРЕНЕ
DESCRIPTION:Фокусът на този курс е овладяване на специфични катерачни техники и движения\, характерни за катеренето на долна осигуровка. Ако вече имате основни умения за катерене на маршрути за начинаещи\, това е подходящият курс за вас. \nКурса включва 8 занимания с инструктор в рамките на 4 поредни седмици. \nВсеки участник в курса получава 20% еднократна отстъпка при закупуване на абонамент след края на курса. \nЗаписването става на място или със закупуването на курса онлайн. Необходимо е предварително да заплащане на сумата – за да запазите мястото си в курса. \nЗа повече информация\, обадете се на 088 803 8835 или ни пишете съобщение. \nДо курса се допускат само лица навършили 18 г.
URL:https://abcclimbingacademy.com/event/kurs-lijd-katerene-2/
LOCATION:Walltopia Climbing Center\, bul. Tsarigradsko shose 111V\, Sofia\, Bulgaria
CATEGORIES:Предстоящи събития
END:VEVENT
BEGIN:VEVENT
DTSTART;TZID=UTC:20241102T103000
DTEND;TZID=UTC:20241124T123000
DTSTAMP:20260421T110019
CREATED:20240220T155635Z
LAST-MODIFIED:20240220T155953Z
UID:5130-1730543400-1732451400@abcclimbingacademy.com
SUMMARY:КУРС ИНТРО WEEKEND - ВЪВЕЖДАНЕ В КАТЕРЕНЕТО
DESCRIPTION:Ако искате да научите основните умения\, необходими\, за да се катерите самостоятелно\, да се връзвате и да осигурявате безопасно\, ние сме тук\, за да ви покажем как с Kурс Интро – въвеждане в катеренето. \nКурса включва 8 занимания с инструктор в рамките на месец. Осигуряваме всичката необходима екипировка\, с изключение на обувки за катерене (еспадрили). В началото можете да започнете и с удобни маратонки\, а в последствие да наемете обувки от залата или да си купите собствени такива. Всеки участник в курса получава 20% еднократна отстъпка при закупуване на абонамент след края на курса. \nЗаписването става на място или със закупуването на курса онлайн. Необходимо е предварително да заплатите съответната сума\, за да запазите мястото си в курса. \nЗа повече информация\, обадете се на 088 803 8835 или ни пишете съобщение. \n  \nДо курса се допускат само лица навършили 18 г.
URL:https://abcclimbingacademy.com/event/kurs-intro-weekend-vvezhdane-v-katereneto-2/
LOCATION:Walltopia Climbing Center\, bul. Tsarigradsko shose 111V\, Sofia\, Bulgaria
CATEGORIES:Предстоящи събития
END:VEVENT
BEGIN:VEVENT
DTSTART;TZID=UTC:20241007T193000
DTEND;TZID=UTC:20241030T213000
DTSTAMP:20260421T110019
CREATED:20240220T160557Z
LAST-MODIFIED:20240220T160557Z
UID:5138-1728329400-1730323800@abcclimbingacademy.com
SUMMARY:КУРС ИНТРО - ВЪВЕЖДАНЕ В КАТЕРЕНЕТО
DESCRIPTION:Ако искате да научите основните умения\, необходими\, за да се катерите самостоятелно\, да се връзвате и да осигурявате безопасно\, ние сме тук\, за да ви покажем как с Kурс Интро – въвеждане в катеренето. \nКурса включва 8 занимания с инструктор в рамките на месец. Осигуряваме всичката необходима екипировка\, с изключение на обувки за катерене (еспадрили). В началото можете да започнете и с удобни маратонки\, а в последствие да наемете обувки от залата или да си купите собствени такива. Всеки участник в курса получава 20% еднократна отстъпка при закупуване на абонамент след края на курса. \nЗаписването става на място или със закупуването на курса онлайн. Необходимо е предварително да заплатите съответната сума\, за да запазите мястото си в курса. \nЗа повече информация\, обадете се на 088 803 8835 или ни пишете съобщение. \n  \nДо курса се допускат само лица навършили 18 г.
URL:https://abcclimbingacademy.com/event/kurs-intro-vvezhdane-v-katereneto-6/
LOCATION:Walltopia Climbing Center\, bul. Tsarigradsko shose 111V\, Sofia\, Bulgaria
CATEGORIES:Предстоящи събития
END:VEVENT
BEGIN:VEVENT
DTSTART;TZID=UTC:20241005T103000
DTEND;TZID=UTC:20241027T123000
DTSTAMP:20260421T110019
CREATED:20240220T155536Z
LAST-MODIFIED:20240220T155536Z
UID:5128-1728124200-1730032200@abcclimbingacademy.com
SUMMARY:КУРС ИНТРО WEEKEND - ВЪВЕЖДАНЕ В КАТЕРЕНЕТО
DESCRIPTION:Ако искате да научите основните умения\, необходими\, за да се катерите самостоятелно\, да се връзвате и да осигурявате безопасно\, ние сме тук\, за да ви покажем как с Kурс Интро – въвеждане в катеренето. \nКурса включва 8 занимания с инструктор в рамките на месец. Осигуряваме всичката необходима екипировка\, с изключение на обувки за катерене (еспадрили). В началото можете да започнете и с удобни маратонки\, а в последствие да наемете обувки от залата или да си купите собствени такива. Всеки участник в курса получава 20% еднократна отстъпка при закупуване на абонамент след края на курса. \nЗаписването става на място или със закупуването на курса онлайн. Необходимо е предварително да заплатите съответната сума\, за да запазите мястото си в курса. \nЗа повече информация\, обадете се на 088 803 8835 или ни пишете съобщение. \n  \nДо курса се допускат само лица навършили 18 г.
URL:https://abcclimbingacademy.com/event/kurs-intro-weekend-vvezhdane-v-katereneto/
LOCATION:Walltopia Climbing Center\, bul. Tsarigradsko shose 111V\, Sofia\, Bulgaria
CATEGORIES:Предстоящи събития
END:VEVENT
BEGIN:VEVENT
DTSTART;TZID=UTC:20240916T193000
DTEND;TZID=UTC:20240925T213000
DTSTAMP:20260421T110019
CREATED:20240223T073426Z
LAST-MODIFIED:20240223T073426Z
UID:5155-1726515000-1727299800@abcclimbingacademy.com
SUMMARY:КУРС "ВЪЗЛИТЕ В КАТЕРЕНЕТО"
DESCRIPTION:С възлите шега не бива\, всеки който се катери го разбира. \nВсеки възел намалява здравината на алпийското въже. Това се дължи на усукването и преплитането на нишките във възелът\, което от своя страна води до непълноценното им и дори неучастие на някои от тях в последвалото натоварване. \nПо време на семинарите\, участниците ще научат и усъвършенстват най-често използваните възли в катеренето. Ще бъдат показани техните разновидности\, различни начини на връзване\, предимства и недостатъци\, както и специфични похвати свързани с приложението им при катерене и осигуряване. \nМоже да се запишете предварително ТУК \nДо курса се допускат само лица навършили 18 г.
URL:https://abcclimbingacademy.com/event/kurs-vzlite-v-katereneto-2/
LOCATION:Walltopia Climbing Center\, bul. Tsarigradsko shose 111V\, Sofia\, Bulgaria
CATEGORIES:Предстоящи събития
END:VEVENT
BEGIN:VEVENT
DTSTART;TZID=UTC:20240608T103000
DTEND;TZID=UTC:20240630T123000
DTSTAMP:20260421T110019
CREATED:20240220T155422Z
LAST-MODIFIED:20240220T155422Z
UID:5126-1717842600-1719750600@abcclimbingacademy.com
SUMMARY:КУРС ИНТРО - ВЪВЕЖДАНЕ В КАТЕРЕНЕТО
DESCRIPTION:Ако искате да научите основните умения\, необходими\, за да се катерите самостоятелно\, да се връзвате и да осигурявате безопасно\, ние сме тук\, за да ви покажем как с Kурс Интро – въвеждане в катеренето. \nКурса включва 8 занимания с инструктор в рамките на месец. Осигуряваме всичката необходима екипировка\, с изключение на обувки за катерене (еспадрили). В началото можете да започнете и с удобни маратонки\, а в последствие да наемете обувки от залата или да си купите собствени такива. Всеки участник в курса получава 20% еднократна отстъпка при закупуване на абонамент след края на курса. \nЗаписването става на място или със закупуването на курса онлайн. Необходимо е предварително да заплатите съответната сума\, за да запазите мястото си в курса. \nЗа повече информация\, обадете се на 088 803 8835 или ни пишете съобщение. \n  \nДо курса се допускат само лица навършили 18 г.
URL:https://abcclimbingacademy.com/event/kurs-intro-vvezhdane-v-katereneto-3/
LOCATION:Walltopia Climbing Center\, bul. Tsarigradsko shose 111V\, Sofia\, Bulgaria
CATEGORIES:Предстоящи събития
END:VEVENT
BEGIN:VEVENT
DTSTART;TZID=UTC:20240603T193000
DTEND;TZID=UTC:20240626T213000
DTSTAMP:20260421T110019
CREATED:20240220T162937Z
LAST-MODIFIED:20240220T162937Z
UID:5148-1717443000-1719437400@abcclimbingacademy.com
SUMMARY:КУРС БОУЛДЪР КАТЕРЕНЕ
DESCRIPTION:Чудите ли се как изкатерването на някой боулдър изглежда като детска игра и изисква минимално усилие за някои (онази слабичка мацка\, която няма големи мускули?!)\, а на вас ви коства много сила и все нещо не се получава? Може би имате нужда да поработите над техниката\, да овладеете специфични движения\, да се научите да боравите правилно с центъра на тежестта на своето тяло. Баланса\, координацията и правилното позициониране на тежестта на тялото са ключови в катеренето и често – много по-важни за успешното преминаване на маршрут\, отколкото силата и здравите мускули. Накратко: в този курс ще ви помогнем да се разберете с гравитацията \nФокусът на този курс е овладяване на специфични катерачни техники и движения\, характерни за боулдър катеренето. Ще работим над разчитането на боулдърите и тактиката за преминаването и над подобряване техниката: баланс\, координация\, гъвкавост\, специфична сила\, динамика. \nАко вече имате основни умения за катерене на маршрути за начинаещи\, това е подходящият курс за вас. \nКурса включва 8 занимания с инструктор в рамките на 4 поредни седмици. \nВсеки участник в курса получава 20% еднократна отстъпка при закупуване на абонамент след края на курса. \nЗаписването става на място или със закупуването на курса онлайн. Необходимо е предварително плащане\, за да запазите мястото си в курса. \nЗа повече информация\, обадете се на 088 803 8835 или ни пишете съобщение. \nДо курса се допускат само лица навършили 18 г.
URL:https://abcclimbingacademy.com/event/kurs-bouldr-katerene-2/
LOCATION:Walltopia Climbing Center\, bul. Tsarigradsko shose 111V\, Sofia\, Bulgaria
CATEGORIES:Предстоящи събития
END:VEVENT
BEGIN:VEVENT
DTSTART;TZID=UTC:20240507T193000
DTEND;TZID=UTC:20240530T213000
DTSTAMP:20260421T110019
CREATED:20240220T160929Z
LAST-MODIFIED:20240220T160929Z
UID:5142-1715110200-1717104600@abcclimbingacademy.com
SUMMARY:КУРС ЛИЙД КАТЕРЕНЕ
DESCRIPTION:Фокусът на този курс е овладяване на специфични катерачни техники и движения\, характерни за катеренето на долна осигуровка. Ако вече имате основни умения за катерене на маршрути за начинаещи\, това е подходящият курс за вас. \nКурса включва 8 занимания с инструктор в рамките на 4 поредни седмици. \nВсеки участник в курса получава 20% еднократна отстъпка при закупуване на абонамент след края на курса. \nЗаписването става на място или със закупуването на курса онлайн. Необходимо е предварително да заплащане на сумата – за да запазите мястото си в курса. \nЗа повече информация\, обадете се на 088 803 8835 или ни пишете съобщение. \nДо курса се допускат само лица навършили 18 г.
URL:https://abcclimbingacademy.com/event/kurs-lijd-katerene/
LOCATION:Walltopia Climbing Center\, bul. Tsarigradsko shose 111V\, Sofia\, Bulgaria
CATEGORIES:Предстоящи събития
END:VEVENT
BEGIN:VEVENT
DTSTART;TZID=UTC:20240415T193000
DTEND;TZID=UTC:20240424T213000
DTSTAMP:20260421T110019
CREATED:20240220T163438Z
LAST-MODIFIED:20240220T163438Z
UID:5152-1713209400-1713994200@abcclimbingacademy.com
SUMMARY:КУРС "ВЪЗЛИТЕ В КАТЕРЕНЕТО"
DESCRIPTION:С възлите шега не бива\, всеки който се катери го разбира. \nВсеки възел намалява здравината на алпийското въже. Това се дължи на усукването и преплитането на нишките във възелът\, което от своя страна води до непълноценното им и дори неучастие на някои от тях в последвалото натоварване. \nПо време на семинарите\, участниците ще научат и усъвършенстват най-често използваните възли в катеренето. Ще бъдат показани техните разновидности\, различни начини на връзване\, предимства и недостатъци\, както и специфични похвати свързани с приложението им при катерене и осигуряване. \nМоже да се запишете предварително ТУК \nДо курса се допускат само лица навършили 18 г.
URL:https://abcclimbingacademy.com/event/kurs-vzlite-v-katereneto/
LOCATION:Walltopia Climbing Center\, bul. Tsarigradsko shose 111V\, Sofia\, Bulgaria
CATEGORIES:Предстоящи събития
END:VEVENT
BEGIN:VEVENT
DTSTART;TZID=UTC:20240406T103000
DTEND;TZID=UTC:20240428T123000
DTSTAMP:20260421T110019
CREATED:20240220T155316Z
LAST-MODIFIED:20240220T155316Z
UID:5124-1712399400-1714307400@abcclimbingacademy.com
SUMMARY:КУРС ИНТРО - ВЪВЕЖДАНЕ В КАТЕРЕНЕТО
DESCRIPTION:Ако искате да научите основните умения\, необходими\, за да се катерите самостоятелно\, да се връзвате и да осигурявате безопасно\, ние сме тук\, за да ви покажем как с Kурс Интро – въвеждане в катеренето. \nКурса включва 8 занимания с инструктор в рамките на месец. Осигуряваме всичката необходима екипировка\, с изключение на обувки за катерене (еспадрили). В началото можете да започнете и с удобни маратонки\, а в последствие да наемете обувки от залата или да си купите собствени такива. Всеки участник в курса получава 20% еднократна отстъпка при закупуване на абонамент след края на курса. \nЗаписването става на място или със закупуването на курса онлайн. Необходимо е предварително да заплатите съответната сума\, за да запазите мястото си в курса. \nЗа повече информация\, обадете се на 088 803 8835 или ни пишете съобщение. \n  \nДо курса се допускат само лица навършили 18 г.
URL:https://abcclimbingacademy.com/event/kurs-intro-vvezhdane-v-katereneto-2/
LOCATION:Walltopia Climbing Center\, bul. Tsarigradsko shose 111V\, Sofia\, Bulgaria
CATEGORIES:Предстоящи събития
END:VEVENT
BEGIN:VEVENT
DTSTART;TZID=UTC:20240402T193000
DTEND;TZID=UTC:20240425T213000
DTSTAMP:20260421T110019
CREATED:20240220T160408Z
LAST-MODIFIED:20240403T133113Z
UID:5136-1712086200-1714080600@abcclimbingacademy.com
SUMMARY:КУРС ИНТРО - ВЪВЕЖДАНЕ В КАТЕРЕНЕТО
DESCRIPTION:Ако искате да научите основните умения\, необходими\, за да се катерите самостоятелно\, да се връзвате и да осигурявате безопасно\, ние сме тук\, за да ви покажем как с Kурс Интро – въвеждане в катеренето. \nКурса включва 8 занимания с инструктор в рамките на месец. Осигуряваме всичката необходима екипировка\, с изключение на обувки за катерене (еспадрили). В началото можете да започнете и с удобни маратонки\, а в последствие да наемете обувки от залата или да си купите собствени такива. Всеки участник в курса получава 20% еднократна отстъпка при закупуване на абонамент след края на курса. \nЗаписването става на място или със закупуването на курса онлайн. Необходимо е предварително да заплатите съответната сума\, за да запазите мястото си в курса. \nЗа повече информация\, обадете се на 088 803 8835 или ни пишете съобщение. \n  \nДо курса се допускат само лица навършили 18 г.
URL:https://abcclimbingacademy.com/event/kurs-intro-vvezhdane-v-katereneto-5/
LOCATION:Walltopia Climbing Center\, bul. Tsarigradsko shose 111V\, Sofia\, Bulgaria
CATEGORIES:Предстоящи събития
END:VEVENT
BEGIN:VEVENT
DTSTART;TZID=UTC:20240305T193000
DTEND;TZID=UTC:20240328T213000
DTSTAMP:20260421T110019
CREATED:20240220T160139Z
LAST-MODIFIED:20240220T160139Z
UID:5134-1709667000-1711661400@abcclimbingacademy.com
SUMMARY:КУРС ИНТРО - ВЪВЕЖДАНЕ В КАТЕРЕНЕТО
DESCRIPTION:Ако искате да научите основните умения\, необходими\, за да се катерите самостоятелно\, да се връзвате и да осигурявате безопасно\, ние сме тук\, за да ви покажем как с Kурс Интро – въвеждане в катеренето. \nКурса включва 8 занимания с инструктор в рамките на месец. Осигуряваме всичката необходима екипировка\, с изключение на обувки за катерене (еспадрили). В началото можете да започнете и с удобни маратонки\, а в последствие да наемете обувки от залата или да си купите собствени такива. Всеки участник в курса получава 20% еднократна отстъпка при закупуване на абонамент след края на курса. \nЗаписването става на място или със закупуването на курса онлайн. Необходимо е предварително да заплатите съответната сума\, за да запазите мястото си в курса. \nЗа повече информация\, обадете се на 088 803 8835 или ни пишете съобщение. \n  \nДо курса се допускат само лица навършили 18 г.
URL:https://abcclimbingacademy.com/event/kurs-intro-vvezhdane-v-katereneto-4/
LOCATION:Walltopia Climbing Center\, bul. Tsarigradsko shose 111V\, Sofia\, Bulgaria
CATEGORIES:Предстоящи събития
END:VEVENT
BEGIN:VEVENT
DTSTART;TZID=UTC:20240304T193000
DTEND;TZID=UTC:20240327T213000
DTSTAMP:20260421T110019
CREATED:20240220T162804Z
LAST-MODIFIED:20240220T162804Z
UID:5146-1709580600-1711575000@abcclimbingacademy.com
SUMMARY:КУРС БОУЛДЪР КАТЕРЕНЕ
DESCRIPTION:Чудите ли се как изкатерването на някой боулдър изглежда като детска игра и изисква минимално усилие за някои (онази слабичка мацка\, която няма големи мускули?!)\, а на вас ви коства много сила и все нещо не се получава? Може би имате нужда да поработите над техниката\, да овладеете специфични движения\, да се научите да боравите правилно с центъра на тежестта на своето тяло. Баланса\, координацията и правилното позициониране на тежестта на тялото са ключови в катеренето и често – много по-важни за успешното преминаване на маршрут\, отколкото силата и здравите мускули. Накратко: в този курс ще ви помогнем да се разберете с гравитацията  \nФокусът на този курс е овладяване на специфични катерачни техники и движения\, характерни за боулдър катеренето. Ще работим над разчитането на боулдърите и тактиката за преминаването и над подобряване техниката: баланс\, координация\, гъвкавост\, специфична сила\, динамика. \nАко вече имате основни умения за катерене на маршрути за начинаещи\, това е подходящият курс за вас. \nКурса включва 8 занимания с инструктор в рамките на 4 поредни седмици. \nВсеки участник в курса получава 20% еднократна отстъпка при закупуване на абонамент след края на курса. \nЗаписването става на място или със закупуването на курса онлайн. Необходимо е предварително плащане\, за да запазите мястото си в курса. \nЗа повече информация\, обадете се на 088 803 8835 или ни пишете съобщение. \nДо курса се допускат само лица навършили 18 г.
URL:https://abcclimbingacademy.com/event/kurs-bouldr-katerene/
LOCATION:Walltopia Climbing Center\, bul. Tsarigradsko shose 111V\, Sofia\, Bulgaria
CATEGORIES:Предстоящи събития
END:VEVENT
BEGIN:VEVENT
DTSTART;TZID=UTC:20240302T103000
DTEND;TZID=UTC:20240324T123000
DTSTAMP:20260421T110019
CREATED:20240220T155050Z
LAST-MODIFIED:20240220T155050Z
UID:5122-1709375400-1711283400@abcclimbingacademy.com
SUMMARY:КУРС ИНТРО - ВЪВЕЖДАНЕ В КАТЕРЕНЕТО
DESCRIPTION:Ако искате да научите основните умения\, необходими\, за да се катерите самостоятелно\, да се връзвате и да осигурявате безопасно\, ние сме тук\, за да ви покажем как с Kурс Интро – въвеждане в катеренето. \nКурса включва 8 занимания с инструктор в рамките на месец. Осигуряваме всичката необходима екипировка\, с изключение на обувки за катерене (еспадрили). В началото можете да започнете и с удобни маратонки\, а в последствие да наемете обувки от залата или да си купите собствени такива. Всеки участник в курса получава 20% еднократна отстъпка при закупуване на абонамент след края на курса. \nЗаписването става на място или със закупуването на курса онлайн. Необходимо е предварително да заплатите съответната сума\, за да запазите мястото си в курса. \nЗа повече информация\, обадете се на 088 803 8835 или ни пишете съобщение. \n  \nДо курса се допускат само лица навършили 18 г.
URL:https://abcclimbingacademy.com/event/kurs-intro-vvezhdane-v-katereneto/
LOCATION:Walltopia Climbing Center\, bul. Tsarigradsko shose 111V\, Sofia\, Bulgaria
CATEGORIES:Предстоящи събития
END:VEVENT
END:VCALENDAR